BEGIN:VCALENDAR
VERSION:2.0
PRODID:-//Second Harvest Food Bank of Northeast Tennessee - ECPv6.15.15//NONSGML v1.0//EN
CALSCALE:GREGORIAN
METHOD:PUBLISH
X-WR-CALNAME:Second Harvest Food Bank of Northeast Tennessee
X-ORIGINAL-URL:https://netfoodbank.org
X-WR-CALDESC:Events for Second Harvest Food Bank of Northeast Tennessee
REFRESH-INTERVAL;VALUE=DURATION:PT1H
X-Robots-Tag:noindex
X-PUBLISHED-TTL:PT1H
BEGIN:VTIMEZONE
TZID:America/New_York
BEGIN:DAYLIGHT
TZOFFSETFROM:-0500
TZOFFSETTO:-0400
TZNAME:EDT
DTSTART:20250309T070000
END:DAYLIGHT
BEGIN:STANDARD
TZOFFSETFROM:-0400
TZOFFSETTO:-0500
TZNAME:EST
DTSTART:20251102T060000
END:STANDARD
BEGIN:DAYLIGHT
TZOFFSETFROM:-0500
TZOFFSETTO:-0400
TZNAME:EDT
DTSTART:20260308T070000
END:DAYLIGHT
BEGIN:STANDARD
TZOFFSETFROM:-0400
TZOFFSETTO:-0500
TZNAME:EST
DTSTART:20261101T060000
END:STANDARD
BEGIN:DAYLIGHT
TZOFFSETFROM:-0500
TZOFFSETTO:-0400
TZNAME:EDT
DTSTART:20270314T070000
END:DAYLIGHT
BEGIN:STANDARD
TZOFFSETFROM:-0400
TZOFFSETTO:-0500
TZNAME:EST
DTSTART:20271107T060000
END:STANDARD
END:VTIMEZONE
BEGIN:VEVENT
DTSTART;TZID=America/New_York:20260502T170000
DTEND;TZID=America/New_York:20260502T220000
DTSTAMP:20260422T013119
CREATED:20251215T210908Z
LAST-MODIFIED:20260310T131601Z
UID:10000028-1777741200-1777759200@netfoodbank.org
SUMMARY:Derby Day on Main 2026
DESCRIPTION:We invite you to join us for this year’s Derby Day on Main\, an evening of elegance and celebration with the power to change lives here in Greeneville and Greene County. Right now\, 1 in 5 families in our community faces food insecurity. Many local children do not know where their next meal will come from. In partnership with Second Harvest Food Bank of Northeast Tennessee\, Derby Day directly addresses this need. Every $100 ticket purchased feeds one child for an entire year. The impact is immediate\, tangible\, and deeply meaningful. Your involvement\, whether through attendance or sponsorship\, truly makes a difference. Sponsorship opportunities include: \nTriple Crown Table- $5\,000\nSpecialty Local Gift Baskets\nTen Events Tickets\nTen Complimentary Drink Tickets\nRecognition on the Press Tour \nChampion Table- $2\,500\nSpecialty Local Gift Baskets\nTen Event Tickets + Table\nTen Complimentary Drink Tickets\nRecognition on the Press Tour \nWinner’s Circle Table – $1500\nTen Event Tickets + Table\nTen Complimentary Drink Tickets\nRecognition on the Press Tour \nPlace – $1000\nTen Event Tickets \nShow – $500\nFive Event Tickets \nRegister Here\nTickets can also be purchased by sending a check to the food bank.\nMake checks payable to Second Harvest Food Bank of Northeast Tennessee (with “Derby Day” in the memo line) and send to the following address:\nSecond Harvest Food Bank of Northeast TN\n1020 Jericho Drive\nKingsport\, TN 37660
URL:https://netfoodbank.org/event/derby-day-on-main-2026/
LOCATION:General Morgan Inn\, 111 N Main St.\, Greeneville\, TN\, 37743\, United States
END:VEVENT
BEGIN:VEVENT
DTSTART;VALUE=DATE:20260509
DTEND;VALUE=DATE:20260510
DTSTAMP:20260422T013119
CREATED:20260325T145957Z
LAST-MODIFIED:20260325T145957Z
UID:10000032-1778284800-1778371199@netfoodbank.org
SUMMARY:Letter Carriers Food Drive
DESCRIPTION:
URL:https://netfoodbank.org/event/letter-carriers-food-drive-2/
CATEGORIES:Food Drives
END:VEVENT
BEGIN:VEVENT
DTSTART;VALUE=DATE:20260601
DTEND;VALUE=DATE:20260602
DTSTAMP:20260422T013119
CREATED:20260219T182127Z
LAST-MODIFIED:20260317T170007Z
UID:10000030-1780272000-1780358399@netfoodbank.org
SUMMARY:Golf Classic
DESCRIPTION:Register Here \nIf you have any questions please email lwalker@netfoodbank.org. \nJoin us for a day of fun on the green at the 33rd Annual Second Harvest Golf Classic! Tee off with purpose as we drive towards a hunger-free Northeast Tennessee.\nGrab your clubs and join us for a day of golf and philanthropy. Together\, let’s putt to end hunger\, one swing at a time!
URL:https://netfoodbank.org/event/golf-classic-2/
LOCATION:Blackthorn Club\, 1501 Ridges Club Dr\, Jonesborough\, TN\, 37659\, United States
END:VEVENT
BEGIN:VEVENT
DTSTART;TZID=America/New_York:20260830T160000
DTEND;TZID=America/New_York:20260830T190000
DTSTAMP:20260422T013119
CREATED:20260219T182149Z
LAST-MODIFIED:20260219T182149Z
UID:10000029-1788105600-1788116400@netfoodbank.org
SUMMARY:The Farmer and The Chef
DESCRIPTION:Check back soon for more information
URL:https://netfoodbank.org/event/the-farmer-and-the-chef-2/
LOCATION:Blackthorn Club\, 1501 Ridges Club Dr\, Jonesborough\, TN\, 37659\, United States
END:VEVENT
END:VCALENDAR